BEGIN:VCALENDAR
VERSION:2.0
PRODID:-//ntns.in//NTNS//EN
CALSCALE:GREGORIAN
METHOD:PUBLISH
BEGIN:VEVENT
DTSTART:20260408T183000+05:30
DURATION:PT1H30M
SUMMARY:Session I — Students and Politics
LOCATION:Vindhya A3-117
URL:https://ntns.in/circle/1/
DESCRIPTION:The Reading Circle · No Tyrants\, No Silence · https://ntns.in/circle/1/
END:VEVENT
END:VCALENDAR
